BEGIN:VCALENDAR
VERSION:2.0
PRODID:-//ChamberMaster//Event Calendar 2.0//EN
METHOD:PUBLISH
X-PUBLISHED-TTL:P3D
REFRESH-INTERVAL:P3D
CALSCALE:GREGORIAN
BEGIN:VEVENT
DTSTART;VALUE=DATE:20260812
DTEND;VALUE=DATE:20260815
TRANSP:TRANSPARENT
X-MICROSOFT-CDO-ALLDAYEVENT:TRUE
SUMMARY:TCCE Annual Conference - August 12-14 - Maryville\, TN
DESCRIPTION:Join us for our August Annual Tennessee Chamber of Commerce Executives Conference in Maryville\, TN\, August 12-14.
X-ALT-DESC;FMTTYPE=text/html:Join us for our August Annual Tennessee Chamber of Commerce Executives Conference in Maryville\, TN\, August 12-14.
LOCATION:RT Lodge 1406 Wilkinson Pike Maryville\, TN 37803 Overnight Rooms: $219 Go to rtlodge.com and choose "Book now" from the online booking bar. There is an online PROMO code box: "Tennessee Chamber Executives"
UID:e.3670.1
SEQUENCE:3
DTSTAMP:20260420T181034Z
URL:https://members.tncce.org/events/details/tcce-annual-conference-august-12-14-maryville-tn-1
END:VEVENT

END:VCALENDAR
